BEGIN:VCALENDAR
VERSION:2.0
PRODID:-//Insurance24 - ECPv6.15.20//NONSGML v1.0//EN
CALSCALE:GREGORIAN
METHOD:PUBLISH
X-WR-CALNAME:Insurance24
X-ORIGINAL-URL:https://insurance24.co.zw
X-WR-CALDESC:Events for Insurance24
REFRESH-INTERVAL;VALUE=DURATION:PT1H
X-Robots-Tag:noindex
X-PUBLISHED-TTL:PT1H
BEGIN:VTIMEZONE
TZID:Europe/Helsinki
BEGIN:DAYLIGHT
TZOFFSETFROM:+0200
TZOFFSETTO:+0300
TZNAME:EEST
DTSTART:20160327T010000
END:DAYLIGHT
BEGIN:STANDARD
TZOFFSETFROM:+0300
TZOFFSETTO:+0200
TZNAME:EET
DTSTART:20161030T010000
END:STANDARD
BEGIN:DAYLIGHT
TZOFFSETFROM:+0200
TZOFFSETTO:+0300
TZNAME:EEST
DTSTART:20170326T010000
END:DAYLIGHT
BEGIN:STANDARD
TZOFFSETFROM:+0300
TZOFFSETTO:+0200
TZNAME:EET
DTSTART:20171029T010000
END:STANDARD
BEGIN:DAYLIGHT
TZOFFSETFROM:+0200
TZOFFSETTO:+0300
TZNAME:EEST
DTSTART:20180325T010000
END:DAYLIGHT
BEGIN:STANDARD
TZOFFSETFROM:+0300
TZOFFSETTO:+0200
TZNAME:EET
DTSTART:20181028T010000
END:STANDARD
END:VTIMEZONE
BEGIN:VTIMEZONE
TZID:UTC
BEGIN:STANDARD
TZOFFSETFROM:+0000
TZOFFSETTO:+0000
TZNAME:UTC
DTSTART:20160101T000000
END:STANDARD
END:VTIMEZONE
BEGIN:VEVENT
DTSTART;TZID=Europe/Helsinki:20170628T100000
DTEND;TZID=Europe/Helsinki:20170628T100000
DTSTAMP:20260421T153512
CREATED:20170612T155741Z
LAST-MODIFIED:20170612T155741Z
UID:239-1498644000-1498644000@insurance24.co.zw
SUMMARY:Annual General Meeting : Zimre Holdings Limited
DESCRIPTION:Read more
URL:https://insurance24.co.zw/event/annual-general-meeting-zimre-holdings-limited/
LOCATION:Nicoz Diamond Auditorium\, 7th Floor\, Insurance Centre\, 30 Samora Machel Avenue\, Harare
CATEGORIES:AGM,Events @24
END:VEVENT
BEGIN:VEVENT
DTSTART;TZID=UTC:20170623T120000
DTEND;TZID=UTC:20170623T170000
DTSTAMP:20260421T153512
CREATED:20170612T155013Z
LAST-MODIFIED:20170612T155013Z
UID:236-1498219200-1498237200@insurance24.co.zw
SUMMARY:Annual General Meeting : Fidelity Life Assurance of Zimbabwe
DESCRIPTION:Read more
URL:https://insurance24.co.zw/event/annual-general-meeting-fidelity-life-assurance-zimbabwe/
LOCATION:Boardroom\, 7TH Floor Fidelity House\, 66 Julius Nyerere Way\, Harare
CATEGORIES:AGM,Events @24
END:VEVENT
BEGIN:VEVENT
DTSTART;TZID=UTC:20170621T150000
DTEND;TZID=UTC:20170621T170000
DTSTAMP:20260421T153512
CREATED:20170612T154818Z
LAST-MODIFIED:20170612T154818Z
UID:233-1498057200-1498064400@insurance24.co.zw
SUMMARY:Annual General Meeting : Fidelity Life Medical Aid Society
DESCRIPTION:Read more
URL:https://insurance24.co.zw/event/annual-general-meeting-fidelity-life-medical-aid-society/
LOCATION:Boardroom\, 7th Floor Fidelity House\, 66 Julius Nyerere Way\, Harare
CATEGORIES:AGM,Events @24
END:VEVENT
BEGIN:VEVENT
DTSTART;TZID=Europe/Helsinki:20170614T143000
DTEND;TZID=Europe/Helsinki:20170614T170000
DTSTAMP:20260421T153512
CREATED:20170612T153829Z
LAST-MODIFIED:20170612T154326Z
UID:228-1497450600-1497459600@insurance24.co.zw
SUMMARY:First Mutual Holdings Annual General Meeting
DESCRIPTION:Read more
URL:https://insurance24.co.zw/event/first-mutual-holdings-annual-general-meeting/
LOCATION:Royal Harare Golf Club\, Harare\, Harare\, 26304\, Zimbabwe
CATEGORIES:AGM,Events @24
END:VEVENT
END:VCALENDAR